BEGIN:VCALENDAR
VERSION:2.0
PRODID:-//European Veterans Fencing - ECPv6.15.20//NONSGML v1.0//EN
CALSCALE:GREGORIAN
METHOD:PUBLISH
X-WR-CALNAME:European Veterans Fencing
X-ORIGINAL-URL:https://www.veteransfencing.eu
X-WR-CALDESC:Events for European Veterans Fencing
REFRESH-INTERVAL;VALUE=DURATION:PT1H
X-Robots-Tag:noindex
X-PUBLISHED-TTL:PT1H
BEGIN:VTIMEZONE
TZID:Europe/Paris
BEGIN:DAYLIGHT
TZOFFSETFROM:+0100
TZOFFSETTO:+0200
TZNAME:CEST
DTSTART:20250330T010000
END:DAYLIGHT
BEGIN:STANDARD
TZOFFSETFROM:+0200
TZOFFSETTO:+0100
TZNAME:CET
DTSTART:20251026T010000
END:STANDARD
BEGIN:DAYLIGHT
TZOFFSETFROM:+0100
TZOFFSETTO:+0200
TZNAME:CEST
DTSTART:20260329T010000
END:DAYLIGHT
BEGIN:STANDARD
TZOFFSETFROM:+0200
TZOFFSETTO:+0100
TZNAME:CET
DTSTART:20261025T010000
END:STANDARD
BEGIN:DAYLIGHT
TZOFFSETFROM:+0100
TZOFFSETTO:+0200
TZNAME:CEST
DTSTART:20270328T010000
END:DAYLIGHT
BEGIN:STANDARD
TZOFFSETFROM:+0200
TZOFFSETTO:+0100
TZNAME:CET
DTSTART:20271031T010000
END:STANDARD
END:VTIMEZONE
BEGIN:VEVENT
DTSTART;VALUE=DATE:20260823
DTEND;VALUE=DATE:20260830
DTSTAMP:20260421T112204
CREATED:20260108T152906Z
LAST-MODIFIED:20260108T153452Z
UID:4742-1787443200-1788047999@www.veteransfencing.eu
SUMMARY:Sabre Training Camp "Sabre and Friends" - Pinerolo (ITA)
DESCRIPTION:Sabre and Friends ENG
URL:https://www.veteransfencing.eu/event/sabre-training-camp-sabre-and-friends-pinerolo-ita/
LOCATION:Stadio Olimpico del Ghiaccio Pinerolo\, Stadio Olimpico del Ghiaccio\, Pinerolo\, TO\, 10064\, Italy
CATEGORIES:Sabre,Training Camp
END:VEVENT
END:VCALENDAR